BEGIN:VCALENDAR
VERSION:2.0
PRODID:-//Fleckvieh - ECPv6.15.20//NONSGML v1.0//EN
CALSCALE:GREGORIAN
METHOD:PUBLISH
X-ORIGINAL-URL:https://www.fleckvieh.at
X-WR-CALDESC:Veranstaltungen für Fleckvieh
REFRESH-INTERVAL;VALUE=DURATION:PT1H
X-Robots-Tag:noindex
X-PUBLISHED-TTL:PT1H
BEGIN:VTIMEZONE
TZID:Europe/Vienna
BEGIN:DAYLIGHT
TZOFFSETFROM:+0100
TZOFFSETTO:+0200
TZNAME:CEST
DTSTART:20250330T010000
END:DAYLIGHT
BEGIN:STANDARD
TZOFFSETFROM:+0200
TZOFFSETTO:+0100
TZNAME:CET
DTSTART:20251026T010000
END:STANDARD
BEGIN:DAYLIGHT
TZOFFSETFROM:+0100
TZOFFSETTO:+0200
TZNAME:CEST
DTSTART:20260329T010000
END:DAYLIGHT
BEGIN:STANDARD
TZOFFSETFROM:+0200
TZOFFSETTO:+0100
TZNAME:CET
DTSTART:20261025T010000
END:STANDARD
BEGIN:DAYLIGHT
TZOFFSETFROM:+0100
TZOFFSETTO:+0200
TZNAME:CEST
DTSTART:20270328T010000
END:DAYLIGHT
BEGIN:STANDARD
TZOFFSETFROM:+0200
TZOFFSETTO:+0100
TZNAME:CET
DTSTART:20271031T010000
END:STANDARD
END:VTIMEZONE
BEGIN:VEVENT
DTSTART;TZID=Europe/Vienna:20260409T193000
DTEND;TZID=Europe/Vienna:20260409T210000
DTSTAMP:20260419T183354
CREATED:20260402T084004Z
LAST-MODIFIED:20260402T084240Z
UID:96484-1775763000-1775768400@www.fleckvieh.at
SUMMARY:GENOSTARS on stage
DESCRIPTION:Am Donnerstag\, 9.April\, will GENOSTAR Ihnen die Neuerungen der April-Zuchtwertschätzung und neue Fleckviehstiere im Zuchtprogramm von GENOSTAR in Bild und Ton präsentieren. Es wird auch wieder Kurzreportagen von den Kuhfamilien auf den Herkunftsbetrieben der GENOSTARS geben. Start ist um 19:30 Uhr.
URL:https://www.fleckvieh.at/termin/genostars-on-stage/
CATEGORIES:Veranstaltungen
ORGANIZER;CN="GENOSTAR":MAILTO:be@genostar.at
END:VEVENT
END:VCALENDAR