BEGIN:VCALENDAR
VERSION:2.0
PRODID:-//Fleckvieh - ECPv6.15.20//NONSGML v1.0//EN
CALSCALE:GREGORIAN
METHOD:PUBLISH
X-WR-CALNAME:Fleckvieh
X-ORIGINAL-URL:https://www.fleckvieh.at
X-WR-CALDESC:Veranstaltungen für Fleckvieh
REFRESH-INTERVAL;VALUE=DURATION:PT1H
X-Robots-Tag:noindex
X-PUBLISHED-TTL:PT1H
BEGIN:VTIMEZONE
TZID:Europe/Vienna
BEGIN:DAYLIGHT
TZOFFSETFROM:+0100
TZOFFSETTO:+0200
TZNAME:CEST
DTSTART:20250330T010000
END:DAYLIGHT
BEGIN:STANDARD
TZOFFSETFROM:+0200
TZOFFSETTO:+0100
TZNAME:CET
DTSTART:20251026T010000
END:STANDARD
BEGIN:DAYLIGHT
TZOFFSETFROM:+0100
TZOFFSETTO:+0200
TZNAME:CEST
DTSTART:20260329T010000
END:DAYLIGHT
BEGIN:STANDARD
TZOFFSETFROM:+0200
TZOFFSETTO:+0100
TZNAME:CET
DTSTART:20261025T010000
END:STANDARD
BEGIN:DAYLIGHT
TZOFFSETFROM:+0100
TZOFFSETTO:+0200
TZNAME:CEST
DTSTART:20270328T010000
END:DAYLIGHT
BEGIN:STANDARD
TZOFFSETFROM:+0200
TZOFFSETTO:+0100
TZNAME:CET
DTSTART:20271031T010000
END:STANDARD
END:VTIMEZONE
BEGIN:VEVENT
DTSTART;VALUE=DATE:20260519
DTEND;VALUE=DATE:20260520
DTSTAMP:20260420T205332
CREATED:20250730T142913Z
LAST-MODIFIED:20260220T064548Z
UID:85523-1779148800-1779235199@www.fleckvieh.at
SUMMARY:Kälbermarkt Rottenbach
DESCRIPTION:Tierübernahme von 06.00 bis 09.00 Uhr\nVersteigerungsbeginn 10.00 Uhr
URL:https://www.fleckvieh.at/termin/kaelbermarkt-rottenbach/2026-05-19/
LOCATION:Rottenbach\,\, Rottenbach 18\, Rappottenstein\, Niederösterreich\, 3911\, Austria
CATEGORIES:Versteigerungen
ATTACH;FMTTYPE=image/jpeg:https://www.fleckvieh.at/wp-content/uploads/2025/07/Rottenbach-Luftbild.jpg
ORGANIZER;CN="N%C3%96GENETIK Rottenbach":MAILTO:zwettl@noegen.at
END:VEVENT
BEGIN:VEVENT
DTSTART;VALUE=DATE:20260630
DTEND;VALUE=DATE:20260701
DTSTAMP:20260420T205332
CREATED:20250730T142913Z
LAST-MODIFIED:20260220T064548Z
UID:85524-1782777600-1782863999@www.fleckvieh.at
SUMMARY:Kälbermarkt Rottenbach
DESCRIPTION:Tierübernahme von 06.00 bis 09.00 Uhr\nVersteigerungsbeginn 10.00 Uhr
URL:https://www.fleckvieh.at/termin/kaelbermarkt-rottenbach/2026-06-30/
LOCATION:Rottenbach\,\, Rottenbach 18\, Rappottenstein\, Niederösterreich\, 3911\, Austria
CATEGORIES:Versteigerungen
ATTACH;FMTTYPE=image/jpeg:https://www.fleckvieh.at/wp-content/uploads/2025/07/Rottenbach-Luftbild.jpg
ORGANIZER;CN="N%C3%96GENETIK Rottenbach":MAILTO:zwettl@noegen.at
END:VEVENT
BEGIN:VEVENT
DTSTART;VALUE=DATE:20260811
DTEND;VALUE=DATE:20260812
DTSTAMP:20260420T205332
CREATED:20250730T142913Z
LAST-MODIFIED:20260220T064548Z
UID:85525-1786406400-1786492799@www.fleckvieh.at
SUMMARY:Kälbermarkt Rottenbach
DESCRIPTION:Tierübernahme von 06.00 bis 09.00 Uhr\nVersteigerungsbeginn 10.00 Uhr
URL:https://www.fleckvieh.at/termin/kaelbermarkt-rottenbach/2026-08-11/
LOCATION:Rottenbach\,\, Rottenbach 18\, Rappottenstein\, Niederösterreich\, 3911\, Austria
CATEGORIES:Versteigerungen
ATTACH;FMTTYPE=image/jpeg:https://www.fleckvieh.at/wp-content/uploads/2025/07/Rottenbach-Luftbild.jpg
ORGANIZER;CN="N%C3%96GENETIK Rottenbach":MAILTO:zwettl@noegen.at
END:VEVENT
BEGIN:VEVENT
DTSTART;VALUE=DATE:20260922
DTEND;VALUE=DATE:20260923
DTSTAMP:20260420T205332
CREATED:20250730T142913Z
LAST-MODIFIED:20260220T064548Z
UID:85526-1790035200-1790121599@www.fleckvieh.at
SUMMARY:Kälbermarkt Rottenbach
DESCRIPTION:Tierübernahme von 06.00 bis 09.00 Uhr\nVersteigerungsbeginn 10.00 Uhr
URL:https://www.fleckvieh.at/termin/kaelbermarkt-rottenbach/2026-09-22/
LOCATION:Rottenbach\,\, Rottenbach 18\, Rappottenstein\, Niederösterreich\, 3911\, Austria
CATEGORIES:Versteigerungen
ATTACH;FMTTYPE=image/jpeg:https://www.fleckvieh.at/wp-content/uploads/2025/07/Rottenbach-Luftbild.jpg
ORGANIZER;CN="N%C3%96GENETIK Rottenbach":MAILTO:zwettl@noegen.at
END:VEVENT
BEGIN:VEVENT
DTSTART;VALUE=DATE:20261103
DTEND;VALUE=DATE:20261104
DTSTAMP:20260420T205332
CREATED:20250730T142913Z
LAST-MODIFIED:20260220T064548Z
UID:85527-1793664000-1793750399@www.fleckvieh.at
SUMMARY:Kälbermarkt Rottenbach
DESCRIPTION:Tierübernahme von 06.00 bis 09.00 Uhr\nVersteigerungsbeginn 10.00 Uhr
URL:https://www.fleckvieh.at/termin/kaelbermarkt-rottenbach/2026-11-03/
LOCATION:Rottenbach\,\, Rottenbach 18\, Rappottenstein\, Niederösterreich\, 3911\, Austria
CATEGORIES:Versteigerungen
ATTACH;FMTTYPE=image/jpeg:https://www.fleckvieh.at/wp-content/uploads/2025/07/Rottenbach-Luftbild.jpg
ORGANIZER;CN="N%C3%96GENETIK Rottenbach":MAILTO:zwettl@noegen.at
END:VEVENT
BEGIN:VEVENT
DTSTART;VALUE=DATE:20261215
DTEND;VALUE=DATE:20261216
DTSTAMP:20260420T205332
CREATED:20250730T142913Z
LAST-MODIFIED:20260220T064453Z
UID:85528-1797292800-1797379199@www.fleckvieh.at
SUMMARY:Kälbermarkt Rottenbach
DESCRIPTION:Tierübernahme von 06.00 bis 09.00 Uhr\nVersteigerungsbeginn 10.00 Uhr
URL:https://www.fleckvieh.at/termin/kaelbermarkt-rottenbach/2026-12-15/
LOCATION:Rottenbach\,\, Rottenbach 18\, Rappottenstein\, Niederösterreich\, 3911\, Austria
CATEGORIES:Versteigerungen
ATTACH;FMTTYPE=image/jpeg:https://www.fleckvieh.at/wp-content/uploads/2025/07/Rottenbach-Luftbild.jpg
ORGANIZER;CN="N%C3%96GENETIK Rottenbach":MAILTO:zwettl@noegen.at
END:VEVENT
END:VCALENDAR