BEGIN:VCALENDAR
VERSION:2.0
PRODID:-//Fleckvieh - ECPv6.15.20//NONSGML v1.0//EN
CALSCALE:GREGORIAN
METHOD:PUBLISH
X-ORIGINAL-URL:https://www.fleckvieh.at
X-WR-CALDESC:Veranstaltungen für Fleckvieh
REFRESH-INTERVAL;VALUE=DURATION:PT1H
X-Robots-Tag:noindex
X-PUBLISHED-TTL:PT1H
BEGIN:VTIMEZONE
TZID:Europe/Vienna
BEGIN:DAYLIGHT
TZOFFSETFROM:+0100
TZOFFSETTO:+0200
TZNAME:CEST
DTSTART:20250330T010000
END:DAYLIGHT
BEGIN:STANDARD
TZOFFSETFROM:+0200
TZOFFSETTO:+0100
TZNAME:CET
DTSTART:20251026T010000
END:STANDARD
BEGIN:DAYLIGHT
TZOFFSETFROM:+0100
TZOFFSETTO:+0200
TZNAME:CEST
DTSTART:20260329T010000
END:DAYLIGHT
BEGIN:STANDARD
TZOFFSETFROM:+0200
TZOFFSETTO:+0100
TZNAME:CET
DTSTART:20261025T010000
END:STANDARD
BEGIN:DAYLIGHT
TZOFFSETFROM:+0100
TZOFFSETTO:+0200
TZNAME:CEST
DTSTART:20270328T010000
END:DAYLIGHT
BEGIN:STANDARD
TZOFFSETFROM:+0200
TZOFFSETTO:+0100
TZNAME:CET
DTSTART:20271031T010000
END:STANDARD
END:VTIMEZONE
BEGIN:VEVENT
DTSTART;VALUE=DATE:20260504
DTEND;VALUE=DATE:20260505
DTSTAMP:20260421T140024
CREATED:20190824T070000Z
LAST-MODIFIED:20251013T104500Z
UID:85798-1777852800-1777939199@www.fleckvieh.at
SUMMARY:Zuchtrinderversteigerung Dornbirn
DESCRIPTION:Online-Katalog (ist 5 Tage vor Versteigerungstermin online) \nZeitenfolge\n07:30 – 09:00 Uhr Anlieferungszeit\n09:40 Uhr Bewertung der Stiere\n09:50 Uhr Versteigerung der Mastkälber\n10:00 Uhr Versteigerungsbeginn \nAnkaufsbeihilfen\nVon der Landwirtschaftskammer Vorarlberg werden für Zuchttiere\, die auf den Absatzveranstaltungen des Verbandes angekauft werden\, nachstehende Beihilfen ausbezahlt. Der Zuschuss wird für alle trächtigen Zuchttiere (Kühe und Kalbinnen) allen Vorarlberger Landwirten gewährt. \nAnkaufspreis –> Zuschuss LWK:\n1.100 € bis 1.300 € –> 10 % des Zuschlagspreises\n1.320 € bis 1.700 € –> 20 % des Zuschlagspreises\nab 1.720 € –> 340 €
URL:https://www.fleckvieh.at/termin/versteigerung-dornbirn-2021-08-23-2021-09-13-2023-11-13-2024-02-19-2025-05-05-2025-08-25-2025-11-03/2026-05-04/
LOCATION:Schorenhalle Dornbirn\,\, Brückengasse 10\, Dornbirn\, Vorarlberg\, 6850\, Österreich
CATEGORIES:Versteigerungen
ATTACH;FMTTYPE=image/jpeg:https://www.fleckvieh.at/wp-content/uploads/2020/05/Schorenhalle-_Dornbirn.jpg
ORGANIZER;CN="vorarlbergRIND":MAILTO:vorarlberg.rind@lk-vbg.at
END:VEVENT
BEGIN:VEVENT
DTSTART;VALUE=DATE:20260824
DTEND;VALUE=DATE:20260825
DTSTAMP:20260421T140024
CREATED:20190824T070000Z
LAST-MODIFIED:20251013T104500Z
UID:85799-1787529600-1787615999@www.fleckvieh.at
SUMMARY:Zuchtrinderversteigerung Dornbirn
DESCRIPTION:Online-Katalog (ist 5 Tage vor Versteigerungstermin online) \nZeitenfolge\n07:30 – 09:00 Uhr Anlieferungszeit\n09:40 Uhr Bewertung der Stiere\n09:50 Uhr Versteigerung der Mastkälber\n10:00 Uhr Versteigerungsbeginn \nAnkaufsbeihilfen\nVon der Landwirtschaftskammer Vorarlberg werden für Zuchttiere\, die auf den Absatzveranstaltungen des Verbandes angekauft werden\, nachstehende Beihilfen ausbezahlt. Der Zuschuss wird für alle trächtigen Zuchttiere (Kühe und Kalbinnen) allen Vorarlberger Landwirten gewährt. \nAnkaufspreis –> Zuschuss LWK:\n1.100 € bis 1.300 € –> 10 % des Zuschlagspreises\n1.320 € bis 1.700 € –> 20 % des Zuschlagspreises\nab 1.720 € –> 340 €
URL:https://www.fleckvieh.at/termin/versteigerung-dornbirn-2021-08-23-2021-09-13-2023-11-13-2024-02-19-2025-05-05-2025-08-25-2025-11-03/2026-08-24/
LOCATION:Schorenhalle Dornbirn\,\, Brückengasse 10\, Dornbirn\, Vorarlberg\, 6850\, Österreich
CATEGORIES:Versteigerungen
ATTACH;FMTTYPE=image/jpeg:https://www.fleckvieh.at/wp-content/uploads/2020/05/Schorenhalle-_Dornbirn.jpg
ORGANIZER;CN="vorarlbergRIND":MAILTO:vorarlberg.rind@lk-vbg.at
END:VEVENT
BEGIN:VEVENT
DTSTART;VALUE=DATE:20260914
DTEND;VALUE=DATE:20260915
DTSTAMP:20260421T140024
CREATED:20190824T070000Z
LAST-MODIFIED:20251013T104500Z
UID:85800-1789344000-1789430399@www.fleckvieh.at
SUMMARY:Zuchtrinderversteigerung Dornbirn
DESCRIPTION:Online-Katalog (ist 5 Tage vor Versteigerungstermin online) \nZeitenfolge\n07:30 – 09:00 Uhr Anlieferungszeit\n09:40 Uhr Bewertung der Stiere\n09:50 Uhr Versteigerung der Mastkälber\n10:00 Uhr Versteigerungsbeginn \nAnkaufsbeihilfen\nVon der Landwirtschaftskammer Vorarlberg werden für Zuchttiere\, die auf den Absatzveranstaltungen des Verbandes angekauft werden\, nachstehende Beihilfen ausbezahlt. Der Zuschuss wird für alle trächtigen Zuchttiere (Kühe und Kalbinnen) allen Vorarlberger Landwirten gewährt. \nAnkaufspreis –> Zuschuss LWK:\n1.100 € bis 1.300 € –> 10 % des Zuschlagspreises\n1.320 € bis 1.700 € –> 20 % des Zuschlagspreises\nab 1.720 € –> 340 €
URL:https://www.fleckvieh.at/termin/versteigerung-dornbirn-2021-08-23-2021-09-13-2023-11-13-2024-02-19-2025-05-05-2025-08-25-2025-11-03/2026-09-14/
LOCATION:Schorenhalle Dornbirn\,\, Brückengasse 10\, Dornbirn\, Vorarlberg\, 6850\, Österreich
CATEGORIES:Versteigerungen
ATTACH;FMTTYPE=image/jpeg:https://www.fleckvieh.at/wp-content/uploads/2020/05/Schorenhalle-_Dornbirn.jpg
ORGANIZER;CN="vorarlbergRIND":MAILTO:vorarlberg.rind@lk-vbg.at
END:VEVENT
BEGIN:VEVENT
DTSTART;VALUE=DATE:20261005
DTEND;VALUE=DATE:20261006
DTSTAMP:20260421T140024
CREATED:20190824T070000Z
LAST-MODIFIED:20251013T104500Z
UID:85801-1791158400-1791244799@www.fleckvieh.at
SUMMARY:Zuchtrinderversteigerung Dornbirn
DESCRIPTION:Online-Katalog (ist 5 Tage vor Versteigerungstermin online) \nZeitenfolge\n07:30 – 09:00 Uhr Anlieferungszeit\n09:40 Uhr Bewertung der Stiere\n09:50 Uhr Versteigerung der Mastkälber\n10:00 Uhr Versteigerungsbeginn \nAnkaufsbeihilfen\nVon der Landwirtschaftskammer Vorarlberg werden für Zuchttiere\, die auf den Absatzveranstaltungen des Verbandes angekauft werden\, nachstehende Beihilfen ausbezahlt. Der Zuschuss wird für alle trächtigen Zuchttiere (Kühe und Kalbinnen) allen Vorarlberger Landwirten gewährt. \nAnkaufspreis –> Zuschuss LWK:\n1.100 € bis 1.300 € –> 10 % des Zuschlagspreises\n1.320 € bis 1.700 € –> 20 % des Zuschlagspreises\nab 1.720 € –> 340 €
URL:https://www.fleckvieh.at/termin/versteigerung-dornbirn-2021-08-23-2021-09-13-2023-11-13-2024-02-19-2025-05-05-2025-08-25-2025-11-03/2026-10-05/
LOCATION:Schorenhalle Dornbirn\,\, Brückengasse 10\, Dornbirn\, Vorarlberg\, 6850\, Österreich
CATEGORIES:Versteigerungen
ATTACH;FMTTYPE=image/jpeg:https://www.fleckvieh.at/wp-content/uploads/2020/05/Schorenhalle-_Dornbirn.jpg
ORGANIZER;CN="vorarlbergRIND":MAILTO:vorarlberg.rind@lk-vbg.at
END:VEVENT
BEGIN:VEVENT
DTSTART;VALUE=DATE:20261102
DTEND;VALUE=DATE:20261103
DTSTAMP:20260421T140024
CREATED:20190824T070000Z
LAST-MODIFIED:20251013T104500Z
UID:85802-1793577600-1793663999@www.fleckvieh.at
SUMMARY:Zuchtrinderversteigerung Dornbirn
DESCRIPTION:Online-Katalog (ist 5 Tage vor Versteigerungstermin online) \nZeitenfolge\n07:30 – 09:00 Uhr Anlieferungszeit\n09:40 Uhr Bewertung der Stiere\n09:50 Uhr Versteigerung der Mastkälber\n10:00 Uhr Versteigerungsbeginn \nAnkaufsbeihilfen\nVon der Landwirtschaftskammer Vorarlberg werden für Zuchttiere\, die auf den Absatzveranstaltungen des Verbandes angekauft werden\, nachstehende Beihilfen ausbezahlt. Der Zuschuss wird für alle trächtigen Zuchttiere (Kühe und Kalbinnen) allen Vorarlberger Landwirten gewährt. \nAnkaufspreis –> Zuschuss LWK:\n1.100 € bis 1.300 € –> 10 % des Zuschlagspreises\n1.320 € bis 1.700 € –> 20 % des Zuschlagspreises\nab 1.720 € –> 340 €
URL:https://www.fleckvieh.at/termin/versteigerung-dornbirn-2021-08-23-2021-09-13-2023-11-13-2024-02-19-2025-05-05-2025-08-25-2025-11-03/2026-11-02/
LOCATION:Schorenhalle Dornbirn\,\, Brückengasse 10\, Dornbirn\, Vorarlberg\, 6850\, Österreich
CATEGORIES:Versteigerungen
ATTACH;FMTTYPE=image/jpeg:https://www.fleckvieh.at/wp-content/uploads/2020/05/Schorenhalle-_Dornbirn.jpg
ORGANIZER;CN="vorarlbergRIND":MAILTO:vorarlberg.rind@lk-vbg.at
END:VEVENT
BEGIN:VEVENT
DTSTART;VALUE=DATE:20261130
DTEND;VALUE=DATE:20261201
DTSTAMP:20260421T140024
CREATED:20190824T070000Z
LAST-MODIFIED:20251013T104500Z
UID:85803-1795996800-1796083199@www.fleckvieh.at
SUMMARY:Zuchtrinderversteigerung Dornbirn
DESCRIPTION:Online-Katalog (ist 5 Tage vor Versteigerungstermin online) \nZeitenfolge\n07:30 – 09:00 Uhr Anlieferungszeit\n09:40 Uhr Bewertung der Stiere\n09:50 Uhr Versteigerung der Mastkälber\n10:00 Uhr Versteigerungsbeginn \nAnkaufsbeihilfen\nVon der Landwirtschaftskammer Vorarlberg werden für Zuchttiere\, die auf den Absatzveranstaltungen des Verbandes angekauft werden\, nachstehende Beihilfen ausbezahlt. Der Zuschuss wird für alle trächtigen Zuchttiere (Kühe und Kalbinnen) allen Vorarlberger Landwirten gewährt. \nAnkaufspreis –> Zuschuss LWK:\n1.100 € bis 1.300 € –> 10 % des Zuschlagspreises\n1.320 € bis 1.700 € –> 20 % des Zuschlagspreises\nab 1.720 € –> 340 €
URL:https://www.fleckvieh.at/termin/versteigerung-dornbirn-2021-08-23-2021-09-13-2023-11-13-2024-02-19-2025-05-05-2025-08-25-2025-11-03/2026-11-30/
LOCATION:Schorenhalle Dornbirn\,\, Brückengasse 10\, Dornbirn\, Vorarlberg\, 6850\, Österreich
CATEGORIES:Versteigerungen
ATTACH;FMTTYPE=image/jpeg:https://www.fleckvieh.at/wp-content/uploads/2020/05/Schorenhalle-_Dornbirn.jpg
ORGANIZER;CN="vorarlbergRIND":MAILTO:vorarlberg.rind@lk-vbg.at
END:VEVENT
END:VCALENDAR