BEGIN:VCALENDAR
VERSION:2.0
PRODID:-//Fleckvieh - ECPv6.15.20//NONSGML v1.0//EN
CALSCALE:GREGORIAN
METHOD:PUBLISH
X-WR-CALNAME:Fleckvieh
X-ORIGINAL-URL:https://www.fleckvieh.at
X-WR-CALDESC:Veranstaltungen für Fleckvieh
REFRESH-INTERVAL;VALUE=DURATION:PT1H
X-Robots-Tag:noindex
X-PUBLISHED-TTL:PT1H
BEGIN:VTIMEZONE
TZID:Europe/Vienna
BEGIN:DAYLIGHT
TZOFFSETFROM:+0100
TZOFFSETTO:+0200
TZNAME:CEST
DTSTART:20240331T010000
END:DAYLIGHT
BEGIN:STANDARD
TZOFFSETFROM:+0200
TZOFFSETTO:+0100
TZNAME:CET
DTSTART:20241027T010000
END:STANDARD
BEGIN:DAYLIGHT
TZOFFSETFROM:+0100
TZOFFSETTO:+0200
TZNAME:CEST
DTSTART:20250330T010000
END:DAYLIGHT
BEGIN:STANDARD
TZOFFSETFROM:+0200
TZOFFSETTO:+0100
TZNAME:CET
DTSTART:20251026T010000
END:STANDARD
BEGIN:DAYLIGHT
TZOFFSETFROM:+0100
TZOFFSETTO:+0200
TZNAME:CEST
DTSTART:20260329T010000
END:DAYLIGHT
BEGIN:STANDARD
TZOFFSETFROM:+0200
TZOFFSETTO:+0100
TZNAME:CET
DTSTART:20261025T010000
END:STANDARD
END:VTIMEZONE
BEGIN:VEVENT
DTSTART;VALUE=DATE:20251204
DTEND;VALUE=DATE:20251205
DTSTAMP:20260420T203859
CREATED:20190605T230000Z
LAST-MODIFIED:20251006T182041Z
UID:59974-1764806400-1764892799@www.fleckvieh.at
SUMMARY:Zuchtrinderversteigerung Greinbach
DESCRIPTION:Katalogbestellung: 03833 20070-10 \nzum Online-Katalog \nVersteigerungsbeginn: 10.45 Uhr \nAuftrieb: 8.00-9.30 Uhr \nKontakt für Treuhandkäufe:\nGeorg Steiner +43 3833-20070-12 oder +43 664 24 45 062\nFerdinand Haas +43 664 11 63 953\nAnna Milchrahm +43 664 88 570 203 \nVersteigerungsreihenfolge:\nZuchtkälber\nJungkalbinnen\nZuchtstiere\nKühe in Milch\nträchtige Kalbinnen
URL:https://www.fleckvieh.at/termin/zuchtrinderversteigerung-greinbach-2021-08-19-2021-10-21-2022-12-01-2023-02-02-2023-08-17-2023-12-07-2024-12-05-2025-12-04/2025-12-04/
LOCATION:Greinbachhalle\,\, Gewerbepark Greinbach 268\, Hartberg\, Steiermark\, 8230\, Österreich
CATEGORIES:Versteigerungen
ATTACH;FMTTYPE=image/jpeg:https://www.fleckvieh.at/wp-content/uploads/2019/06/Greinbachhalle-Stmk-1.jpg
ORGANIZER;CN="Rind Steiermark":MAILTO:info@rind-stmk.at
END:VEVENT
END:VCALENDAR