BEGIN:VCALENDAR
VERSION:2.0
PRODID:-//Fleckvieh - ECPv6.15.20//NONSGML v1.0//EN
CALSCALE:GREGORIAN
METHOD:PUBLISH
X-WR-CALNAME:Fleckvieh
X-ORIGINAL-URL:https://www.fleckvieh.at
X-WR-CALDESC:Veranstaltungen für Fleckvieh
REFRESH-INTERVAL;VALUE=DURATION:PT1H
X-Robots-Tag:noindex
X-PUBLISHED-TTL:PT1H
BEGIN:VTIMEZONE
TZID:Europe/Vienna
BEGIN:DAYLIGHT
TZOFFSETFROM:+0100
TZOFFSETTO:+0200
TZNAME:CEST
DTSTART:20250330T010000
END:DAYLIGHT
BEGIN:STANDARD
TZOFFSETFROM:+0200
TZOFFSETTO:+0100
TZNAME:CET
DTSTART:20251026T010000
END:STANDARD
BEGIN:DAYLIGHT
TZOFFSETFROM:+0100
TZOFFSETTO:+0200
TZNAME:CEST
DTSTART:20260329T010000
END:DAYLIGHT
BEGIN:STANDARD
TZOFFSETFROM:+0200
TZOFFSETTO:+0100
TZNAME:CET
DTSTART:20261025T010000
END:STANDARD
BEGIN:DAYLIGHT
TZOFFSETFROM:+0100
TZOFFSETTO:+0200
TZNAME:CEST
DTSTART:20270328T010000
END:DAYLIGHT
BEGIN:STANDARD
TZOFFSETFROM:+0200
TZOFFSETTO:+0100
TZNAME:CET
DTSTART:20271031T010000
END:STANDARD
END:VTIMEZONE
BEGIN:VEVENT
DTSTART;VALUE=DATE:20260806
DTEND;VALUE=DATE:20260807
DTSTAMP:20260421T034529
CREATED:20200107T090000Z
LAST-MODIFIED:20260420T195401Z
UID:85818-1785974400-1786060799@www.fleckvieh.at
SUMMARY:Zuchtrinderversteigerung Traboch
DESCRIPTION:Katalogbestellung:\nTel. +43 3833 20070 10 \nOnline-Katalog \nVersteigerungsbeginn:\n10:45 Uhr \nVersteigerungsreihenfolge:\nZuchtkälber\nJungkalbinnen\nKühe\nträchtige Kalbinnen \nKontakt für Treuhandkäufe:\nGeorg Steiner +43 664 24 45 062\nFlorian Hörmann +43 664  84 21 190\nEwald Fladl +43 664 83 12 692\nKaroline Strauß +43 676 46 05 582\nDaniel Moser +43 664 78 822 813
URL:https://www.fleckvieh.at/termin/zuchtrinderversteigerung-traboch-2021-09-30-2022-11-17-2023-03-09-2023-11-16-2024-03-07-2024-11-14-2025-11-13-2026-01-08-2026-08-06/2026-08-06/
LOCATION:Rinderzuchtzentrum Traboch\,\, Industriepark West 7\, Traboch\, Steiermark\, 8772\, Österreich
CATEGORIES:Versteigerungen
ATTACH;FMTTYPE=image/jpeg:https://www.fleckvieh.at/wp-content/uploads/2020/01/HALLE-TRABOCH.jpg
ORGANIZER;CN="Rind Steiermark":MAILTO:info@rind-stmk.at
END:VEVENT
BEGIN:VEVENT
DTSTART;VALUE=DATE:20260917
DTEND;VALUE=DATE:20260918
DTSTAMP:20260421T034529
CREATED:20200107T090000Z
LAST-MODIFIED:20260420T195401Z
UID:85819-1789603200-1789689599@www.fleckvieh.at
SUMMARY:Zuchtrinderversteigerung Traboch
DESCRIPTION:Katalogbestellung:\nTel. +43 3833 20070 10 \nOnline-Katalog \nVersteigerungsbeginn:\n10:45 Uhr \nVersteigerungsreihenfolge:\nZuchtkälber\nJungkalbinnen\nKühe\nträchtige Kalbinnen \nKontakt für Treuhandkäufe:\nGeorg Steiner +43 664 24 45 062\nFlorian Hörmann +43 664  84 21 190\nEwald Fladl +43 664 83 12 692\nKaroline Strauß +43 676 46 05 582\nDaniel Moser +43 664 78 822 813
URL:https://www.fleckvieh.at/termin/zuchtrinderversteigerung-traboch-2021-09-30-2022-11-17-2023-03-09-2023-11-16-2024-03-07-2024-11-14-2025-11-13-2026-01-08-2026-08-06/2026-09-17/
LOCATION:Rinderzuchtzentrum Traboch\,\, Industriepark West 7\, Traboch\, Steiermark\, 8772\, Österreich
CATEGORIES:Versteigerungen
ATTACH;FMTTYPE=image/jpeg:https://www.fleckvieh.at/wp-content/uploads/2020/01/HALLE-TRABOCH.jpg
ORGANIZER;CN="Rind Steiermark":MAILTO:info@rind-stmk.at
END:VEVENT
BEGIN:VEVENT
DTSTART;VALUE=DATE:20261112
DTEND;VALUE=DATE:20261113
DTSTAMP:20260421T034529
CREATED:20200107T090000Z
LAST-MODIFIED:20260420T195401Z
UID:85820-1794441600-1794527999@www.fleckvieh.at
SUMMARY:Zuchtrinderversteigerung Traboch
DESCRIPTION:Katalogbestellung:\nTel. +43 3833 20070 10 \nOnline-Katalog \nVersteigerungsbeginn:\n10:45 Uhr \nVersteigerungsreihenfolge:\nZuchtkälber\nJungkalbinnen\nKühe\nträchtige Kalbinnen \nKontakt für Treuhandkäufe:\nGeorg Steiner +43 664 24 45 062\nFlorian Hörmann +43 664  84 21 190\nEwald Fladl +43 664 83 12 692\nKaroline Strauß +43 676 46 05 582\nDaniel Moser +43 664 78 822 813
URL:https://www.fleckvieh.at/termin/zuchtrinderversteigerung-traboch-2021-09-30-2022-11-17-2023-03-09-2023-11-16-2024-03-07-2024-11-14-2025-11-13-2026-01-08-2026-08-06/2026-11-12/
LOCATION:Rinderzuchtzentrum Traboch\,\, Industriepark West 7\, Traboch\, Steiermark\, 8772\, Österreich
CATEGORIES:Versteigerungen
ATTACH;FMTTYPE=image/jpeg:https://www.fleckvieh.at/wp-content/uploads/2020/01/HALLE-TRABOCH.jpg
ORGANIZER;CN="Rind Steiermark":MAILTO:info@rind-stmk.at
END:VEVENT
END:VCALENDAR